BEGIN:VCALENDAR
VERSION:2.0
PRODID:-//217.160.0.110//NONSGML kigkonsult.se iCalcreator 2.20//
CALSCALE:GREGORIAN
METHOD:PUBLISH
X-WR-TIMEZONE:Europe/Berlin
BEGIN:VEVENT
UID:event62@Landes-Eissport-Verband Schleswig-Holstein e.V.
DTSTAMP:20260420T143619Z
CATEGORIES:	Eisstocksport
DESCRIPTION:Norddeutsche Mixedmeisterschaften\, Bremen\nKategorie: 	Eisstock
 sport\nICS-Link: https://dev.lev-sh.de/index.php?option=com_jem&view=event
 &id=62:e-norddeutsche-mixedmeisterschaften\n
DTSTART;TZID=Europe/Berlin:20191207T090000
DTEND;TZID=Europe/Berlin:20191207T090000
SUMMARY:Norddeutsche Mixedmeisterschaften\, Bremen
URL:https://dev.lev-sh.de/index.php?option=com_jem&view=event&id=62:e-nordd
 eutsche-mixedmeisterschaften
END:VEVENT
END:VCALENDAR